BEGIN:VCALENDAR
VERSION:2.0
PRODID:-//Rock Bar Download - ECPv6.3.3.1//NONSGML v1.0//EN
CALSCALE:GREGORIAN
METHOD:PUBLISH
X-WR-CALNAME:Rock Bar Download
X-ORIGINAL-URL:https://rockbar.download
X-WR-CALDESC:Events for Rock Bar Download
REFRESH-INTERVAL;VALUE=DURATION:PT1H
X-Robots-Tag:noindex
X-PUBLISHED-TTL:PT1H
BEGIN:VTIMEZONE
TZID:Europe/Sofia
BEGIN:DAYLIGHT
TZOFFSETFROM:+0200
TZOFFSETTO:+0300
TZNAME:EEST
DTSTART:20260329T010000
END:DAYLIGHT
BEGIN:STANDARD
TZOFFSETFROM:+0300
TZOFFSETTO:+0200
TZNAME:EET
DTSTART:20261025T010000
END:STANDARD
END:VTIMEZONE
BEGIN:VEVENT
DTSTART;TZID=Europe/Sofia:20260131T210000
DTEND;TZID=Europe/Sofia:20260131T230000
DTSTAMP:20260422T202935
CREATED:20260108T164313Z
LAST-MODIFIED:20260202T170549Z
UID:30973-1769893200-1769900400@rockbar.download
SUMMARY:Цар Плъх LIVE - 31.01.26
DESCRIPTION:Цар Плъх на живо в Пловдив – събитието е напълно разпродадено  На 31 януари 2026 Цар Плъх се завръщат в Пловдив за концерт в Rock Bar Download\, където за първи път ще се качат на сцената на клуба. Групата ще представи парчета от дебютния албум „Най-после тишина“\, както и нова\, все още неиздавана музика\, върху която работи в момента – песни\, които ще могат да бъдат чути на живо ексклузивно на този концерт.  Дата: 31.01.2026 Час: 19:30 Място: Rock Bar Download\, Пловдив Билети: https://shorturl.at/omS0l						\n				\n				\n				\n					\n			\n						\n		\n				\n				\n				\n				\n							🗡️ Tsar Pluh LIVE in Plovdiv – The event is SOLD OUT On January 31\, 2026 Tsar Pluh return to Plovdiv for a concert at Rock Bar Download\, where they will take the club’s stage for the first time. The band will present tracks from their debut album “Silence at Last”\, as well as new\, yet unreleased music they are currently working on – songs that will be heard live exclusively at this concert. 📅 Date: 31.01.2026🕢 Time: 19:30📍 Venue: Rock Bar Download\, Plovdiv🎟️ Tickets: https://shorturl.at/omS0l 						\n				\n				\n				\n			Tickets
URL:https://rockbar.download/event/tsar-pluh-live-31-01-26/
LOCATION:Rock Bar Download\, ul. "Lady Strangford" 5\, 4000 Plovdiv\, Plovdiv\, 4000\, Bulgaria
CATEGORIES:Past
ATTACH;FMTTYPE=image/jpeg:https://rockbar.download/wp-content/uploads/plovdiv-FB-1920x1005-1.jpg
END:VEVENT
END:VCALENDAR