BEGIN:VCALENDAR
VERSION:2.0
PRODID:-//Rock Bar Download - ECPv6.3.3.1//NONSGML v1.0//EN
CALSCALE:GREGORIAN
METHOD:PUBLISH
X-ORIGINAL-URL:https://rockbar.download
X-WR-CALDESC:Events for Rock Bar Download
REFRESH-INTERVAL;VALUE=DURATION:PT1H
X-Robots-Tag:noindex
X-PUBLISHED-TTL:PT1H
BEGIN:VTIMEZONE
TZID:Europe/Sofia
BEGIN:DAYLIGHT
TZOFFSETFROM:+0200
TZOFFSETTO:+0300
TZNAME:EEST
DTSTART:20260329T010000
END:DAYLIGHT
BEGIN:STANDARD
TZOFFSETFROM:+0300
TZOFFSETTO:+0200
TZNAME:EET
DTSTART:20261025T010000
END:STANDARD
END:VTIMEZONE
BEGIN:VEVENT
DTSTART;TZID=Europe/Sofia:20260404T190000
DTEND;TZID=Europe/Sofia:20260404T230000
DTSTAMP:20260424T013224
CREATED:20260310T141304Z
LAST-MODIFIED:20260407T114825Z
UID:31657-1775329200-1775343600@rockbar.download
SUMMARY:CHRIS CORNELL Tribute by der hunds - 04.04.26
DESCRIPTION:Rock Bar Download представя:Chris Cornell Tribute by der hunds – 04.04.26 Подгответе се за едно емоционално музикално пътуване\, докато der hunds изпълняват песни на Крис Корнел от Soundgarden\, Audioslave и соловата кариера на великия музикант der hunds са:Боби КосаткатаГеорги МихайловИвайло Петров – PifaРадослав Маринчев Врати – 19:00 | Начало – 21:00 Билети на предварителна продажба: 15 € / BGN 29.34 (по-долу)Билети на място и в деня на събитието: 20 € / BGN 39.12 На концертни дати резервации за места в бара не се приемат.! Лица под 18 могат да присъстват само с придружител и нотариално заверено пълномощно 						\n				\n				\n				\n					\n			\n						\n		\n				\n				\n				\n				\n							Rock Bar Download presents:CHRIS CORNELL Tribute by der hunds – 04.04.26 Prepare for an emotional musical journey as der hunds perform songs by Chris Cornell from Soundgarden\, Audioslave and the great musician’s solo career. der hunds are:Bobby the Killer WhaleGeorgi MihailovIvaylo Petrov – PifaRadoslav Marinchev Doors – 19:00 | Start – 21:00 Pre-sale tickets: €15 / BGN 29.34 (below)Tickets on site and on the day of the event: €20 / BGN 39.12 On concert dates\, reservations for seats at the bar are not accepted.! Persons under 18 may attend only with a companion and a notarized power of attorney
URL:https://rockbar.download/event/chris-cornell-tribute-derhunds-04-04-26/
LOCATION:Rock Bar Download\, ul. "Lady Strangford" 5\, 4000 Plovdiv\, Plovdiv\, 4000\, Bulgaria
CATEGORIES:Past
ATTACH;FMTTYPE=image/jpeg:https://rockbar.download/wp-content/uploads/CHRISCORNELLTRIBUTE_DOWNLOAD_APRIL2026_EVENT.jpg
END:VEVENT
END:VCALENDAR