BEGIN:VCALENDAR
VERSION:2.0
PRODID:-//Rock Bar Download - ECPv6.3.3.1//NONSGML v1.0//EN
CALSCALE:GREGORIAN
METHOD:PUBLISH
X-WR-CALNAME:Rock Bar Download
X-ORIGINAL-URL:https://rockbar.download
X-WR-CALDESC:Events for Rock Bar Download
REFRESH-INTERVAL;VALUE=DURATION:PT1H
X-Robots-Tag:noindex
X-PUBLISHED-TTL:PT1H
BEGIN:VTIMEZONE
TZID:Europe/Sofia
BEGIN:DAYLIGHT
TZOFFSETFROM:+0200
TZOFFSETTO:+0300
TZNAME:EEST
DTSTART:20230326T010000
END:DAYLIGHT
BEGIN:STANDARD
TZOFFSETFROM:+0300
TZOFFSETTO:+0200
TZNAME:EET
DTSTART:20231029T010000
END:STANDARD
BEGIN:DAYLIGHT
TZOFFSETFROM:+0200
TZOFFSETTO:+0300
TZNAME:EEST
DTSTART:20240331T010000
END:DAYLIGHT
BEGIN:STANDARD
TZOFFSETFROM:+0300
TZOFFSETTO:+0200
TZNAME:EET
DTSTART:20241027T010000
END:STANDARD
END:VTIMEZONE
BEGIN:VEVENT
DTSTART;TZID=Europe/Sofia:20240614T220000
DTEND;TZID=Europe/Sofia:20240714T220000
DTSTAMP:20260420T232941
CREATED:20240610T082709Z
LAST-MODIFIED:20240615T111008Z
UID:28081-1718402400-1720994400@rockbar.download
SUMMARY:Euro 2024 Promos @ Download
DESCRIPTION:На 28 март тематичните четвъртъци в бара се завръщат за една по-различна вечер с The (Dark)Wave Side of Life! Заповядайте да послушаме някои от култовите new wave класики на осемдесетте с групи като:Depeche Mode\, New Order\, Tears For Fears и The Cure\, неостаряващите synth pop хитове на деведесетте с And One\, Melotron и Wolfsheim\, и мрачните darkwave ритми на Diary of Dreams\, Deine Lakaien и She Past Away. Разбира се\, към споменатите ще се присъединят още много други групи\, а фокусът ще бъде основно върху wave и synth стиловете в много от техните разновидности. Голяма част от селекцията песни ще звучат за първи и\, най-вероятно\, за последен път в Download… DJ Silentium е Димитър Копарански\, който гостува при нас основно с алтернативните партита (The ……… Side of Life)\, разнообразяващи програмата със стилове от “нишовата” зона!						\n				\n				\n				\n					\n			\n						\n		\n				\n				\n				\n				\n							On March 28th\, our themed Thursdays return for a different night with The (Dark)Wave Side of Life! Come listen to some of the cult new wave classics of the eighties with bands like:Depeche Mode\, New Order\, Tears For Fears and The Cure\, the timeless synth pop hits of the nineties with And One\, Melotron and Wolfsheim\, and the brooding darkwave rhythms of Diary of Dreams\, Deine Lakaien and She Past Away. Of course\, those mentioned will be joined by many other bands\, and the focus will be mainly on wave and synth styles in many of their varieties. A large part of the selection of songs will be heard for the first and\, most likely\, for the last time in Download… DJ Silentium is Dimitar Koparanski\, who visits us mainly with such alternative parties (The ……… Side of Life)\, diversifying the program with styles from the “niche” area! 						\n				\n				\n				\n			Facebook event
URL:https://rockbar.download/event/euro2024/
LOCATION:Rock Bar Download\, ul. "Lady Strangford" 5\, 4000 Plovdiv\, Plovdiv\, 4000\, Bulgaria
CATEGORIES:Upcoming
ATTACH;FMTTYPE=image/jpeg:https://rockbar.download/wp-content/uploads/RBD_Euro2024_cover-new.jpg
END:VEVENT
BEGIN:VEVENT
DTSTART;TZID=Europe/Sofia:20240328T220000
DTEND;TZID=Europe/Sofia:20240329T020000
DTSTAMP:20260420T232942
CREATED:20240311T181230Z
LAST-MODIFIED:20240311T181704Z
UID:27690-1711663200-1711677600@rockbar.download
SUMMARY:The (Dark)Wave Side of Life - 28.03
DESCRIPTION:На 28 март тематичните четвъртъци в бара се завръщат за една по-различна вечер с The (Dark)Wave Side of Life! Заповядайте да послушаме някои от култовите new wave класики на осемдесетте с групи като:Depeche Mode\, New Order\, Tears For Fears и The Cure\, неостаряващите synth pop хитове на деведесетте с And One\, Melotron и Wolfsheim\, и мрачните darkwave ритми на Diary of Dreams\, Deine Lakaien и She Past Away. Разбира се\, към споменатите ще се присъединят още много други групи\, а фокусът ще бъде основно върху wave и synth стиловете в много от техните разновидности. Голяма част от селекцията песни ще звучат за първи и\, най-вероятно\, за последен път в Download… DJ Silentium е Димитър Копарански\, който гостува при нас основно с алтернативните партита (The ……… Side of Life)\, разнообразяващи програмата със стилове от “нишовата” зона!						\n				\n				\n				\n					\n			\n						\n		\n				\n				\n				\n				\n							On March 28th\, our themed Thursdays return for a different night with The (Dark)Wave Side of Life! Come listen to some of the cult new wave classics of the eighties with bands like:Depeche Mode\, New Order\, Tears For Fears and The Cure\, the timeless synth pop hits of the nineties with And One\, Melotron and Wolfsheim\, and the brooding darkwave rhythms of Diary of Dreams\, Deine Lakaien and She Past Away. Of course\, those mentioned will be joined by many other bands\, and the focus will be mainly on wave and synth styles in many of their varieties. A large part of the selection of songs will be heard for the first and\, most likely\, for the last time in Download… DJ Silentium is Dimitar Koparanski\, who visits us mainly with such alternative parties (The ……… Side of Life)\, diversifying the program with styles from the “niche” area! 						\n				\n				\n				\n			Facebook event
URL:https://rockbar.download/event/the-darkwave-side-of-life-28-03/
CATEGORIES:Upcoming
ATTACH;FMTTYPE=image/jpeg:https://rockbar.download/wp-content/uploads/28.03-DW.jpg
END:VEVENT
BEGIN:VEVENT
DTSTART;TZID=Europe/Sofia:20231231T200000
DTEND;TZID=Europe/Sofia:20240101T040000
DTSTAMP:20260420T232942
CREATED:20231128T110258Z
LAST-MODIFIED:20231128T111638Z
UID:27176-1704052800-1704081600@rockbar.download
SUMMARY:New Year's Eve 2024 Party
DESCRIPTION:На 28 март тематичните четвъртъци в бара се завръщат за една по-различна вечер с The (Dark)Wave Side of Life! Заповядайте да послушаме някои от култовите new wave класики на осемдесетте с групи като:Depeche Mode\, New Order\, Tears For Fears и The Cure\, неостаряващите synth pop хитове на деведесетте с And One\, Melotron и Wolfsheim\, и мрачните darkwave ритми на Diary of Dreams\, Deine Lakaien и She Past Away. Разбира се\, към споменатите ще се присъединят още много други групи\, а фокусът ще бъде основно върху wave и synth стиловете в много от техните разновидности. Голяма част от селекцията песни ще звучат за първи и\, най-вероятно\, за последен път в Download… DJ Silentium е Димитър Копарански\, който гостува при нас основно с алтернативните партита (The ……… Side of Life)\, разнообразяващи програмата със стилове от “нишовата” зона!						\n				\n				\n				\n					\n			\n						\n		\n				\n				\n				\n				\n							On March 28th\, our themed Thursdays return for a different night with The (Dark)Wave Side of Life! Come listen to some of the cult new wave classics of the eighties with bands like:Depeche Mode\, New Order\, Tears For Fears and The Cure\, the timeless synth pop hits of the nineties with And One\, Melotron and Wolfsheim\, and the brooding darkwave rhythms of Diary of Dreams\, Deine Lakaien and She Past Away. Of course\, those mentioned will be joined by many other bands\, and the focus will be mainly on wave and synth styles in many of their varieties. A large part of the selection of songs will be heard for the first and\, most likely\, for the last time in Download… DJ Silentium is Dimitar Koparanski\, who visits us mainly with such alternative parties (The ……… Side of Life)\, diversifying the program with styles from the “niche” area! 						\n				\n				\n				\n			Facebook event
URL:https://rockbar.download/event/new-years-eve-2024-party/
CATEGORIES:Upcoming
ATTACH;FMTTYPE=image/jpeg:https://rockbar.download/wp-content/uploads/2024-event-new.jpg
END:VEVENT
BEGIN:VEVENT
DTSTART;TZID=Europe/Sofia:20230921T223000
DTEND;TZID=Europe/Sofia:20230922T010000
DTSTAMP:20260420T232942
CREATED:20230912T130912Z
LAST-MODIFIED:20230912T131135Z
UID:26880-1695335400-1695344400@rockbar.download
SUMMARY:SUPERSONIC - Special Set by RADO: 21.09.23
DESCRIPTION:На 28 март тематичните четвъртъци в бара се завръщат за една по-различна вечер с The (Dark)Wave Side of Life! Заповядайте да послушаме някои от култовите new wave класики на осемдесетте с групи като:Depeche Mode\, New Order\, Tears For Fears и The Cure\, неостаряващите synth pop хитове на деведесетте с And One\, Melotron и Wolfsheim\, и мрачните darkwave ритми на Diary of Dreams\, Deine Lakaien и She Past Away. Разбира се\, към споменатите ще се присъединят още много други групи\, а фокусът ще бъде основно върху wave и synth стиловете в много от техните разновидности. Голяма част от селекцията песни ще звучат за първи и\, най-вероятно\, за последен път в Download… DJ Silentium е Димитър Копарански\, който гостува при нас основно с алтернативните партита (The ……… Side of Life)\, разнообразяващи програмата със стилове от “нишовата” зона!						\n				\n				\n				\n					\n			\n						\n		\n				\n				\n				\n				\n							On March 28th\, our themed Thursdays return for a different night with The (Dark)Wave Side of Life! Come listen to some of the cult new wave classics of the eighties with bands like:Depeche Mode\, New Order\, Tears For Fears and The Cure\, the timeless synth pop hits of the nineties with And One\, Melotron and Wolfsheim\, and the brooding darkwave rhythms of Diary of Dreams\, Deine Lakaien and She Past Away. Of course\, those mentioned will be joined by many other bands\, and the focus will be mainly on wave and synth styles in many of their varieties. A large part of the selection of songs will be heard for the first and\, most likely\, for the last time in Download… DJ Silentium is Dimitar Koparanski\, who visits us mainly with such alternative parties (The ……… Side of Life)\, diversifying the program with styles from the “niche” area! 						\n				\n				\n				\n			Facebook event
URL:https://rockbar.download/event/supersonic-special-set-by-rado-21-09-23/
CATEGORIES:Upcoming
ATTACH;FMTTYPE=image/jpeg:https://rockbar.download/wp-content/uploads/RadoBritpopCover.jpg
END:VEVENT
END:VCALENDAR