BEGIN:VCALENDAR
VERSION:2.0
PRODID:-//Rock Bar Download - ECPv6.3.3.1//NONSGML v1.0//EN
CALSCALE:GREGORIAN
METHOD:PUBLISH
X-ORIGINAL-URL:https://rockbar.download
X-WR-CALDESC:Events for Rock Bar Download
REFRESH-INTERVAL;VALUE=DURATION:PT1H
X-Robots-Tag:noindex
X-PUBLISHED-TTL:PT1H
BEGIN:VTIMEZONE
TZID:Europe/Sofia
BEGIN:DAYLIGHT
TZOFFSETFROM:+0200
TZOFFSETTO:+0300
TZNAME:EEST
DTSTART:20230326T010000
END:DAYLIGHT
BEGIN:STANDARD
TZOFFSETFROM:+0300
TZOFFSETTO:+0200
TZNAME:EET
DTSTART:20231029T010000
END:STANDARD
BEGIN:DAYLIGHT
TZOFFSETFROM:+0200
TZOFFSETTO:+0300
TZNAME:EEST
DTSTART:20240331T010000
END:DAYLIGHT
BEGIN:STANDARD
TZOFFSETFROM:+0300
TZOFFSETTO:+0200
TZNAME:EET
DTSTART:20241027T010000
END:STANDARD
END:VTIMEZONE
BEGIN:VEVENT
DTSTART;TZID=Europe/Sofia:20241001T220000
DTEND;TZID=Europe/Sofia:20241231T000000
DTSTAMP:20260421T214616
CREATED:20241008T093006Z
LAST-MODIFIED:20241008T093354Z
UID:28456-1727820000-1735603200@rockbar.download
SUMMARY:HEAVY HOUR Promo ft. TATRATEA
DESCRIPTION:НОВО ПРОМО ft. TATRATEA Обявяваме HEAVY HOUR* – всеки петък и събота между 22:00 и 00:00 ч.\, подобно на вторник\, ще удвояваме поръчаните от вас шотове TATRATEA Вие избирате процента\, ние просто ви наливаме х2!*до края на 2024-та						\n				\n				\n				\n					\n			\n						\n		\n				\n				\n				\n				\n							NEW PROMO! ft. TATRATEA Announcing HEAVY HOUR* – every Friday and Saturday between 22:00 and 00:00\, like Tuesday\, we will double the TATRATEA shots you order You choose the percentage\, we just pour x2!*until the end of 2024
URL:https://rockbar.download/event/heavy-hour-tatratea/
LOCATION:Rock Bar Download\, ul. "Lady Strangford" 5\, 4000 Plovdiv\, Plovdiv\, 4000\, Bulgaria
CATEGORIES:Recurring
ATTACH;FMTTYPE=image/jpeg:https://rockbar.download/wp-content/uploads/Promo_event-Tatra-copy.jpg
END:VEVENT
BEGIN:VEVENT
DTSTART;TZID=Europe/Sofia:20230518T200000
DTEND;TZID=Europe/Sofia:20240630T200000
DTSTAMP:20260421T214617
CREATED:20230515T151429Z
LAST-MODIFIED:20240408T094226Z
UID:26613-1684440000-1719777600@rockbar.download
SUMMARY:Table-Soccer Tournament - Thursday/Sunday
DESCRIPTION:НОВО ПРОМО ft. TATRATEA Обявяваме HEAVY HOUR* – всеки петък и събота между 22:00 и 00:00 ч.\, подобно на вторник\, ще удвояваме поръчаните от вас шотове TATRATEA Вие избирате процента\, ние просто ви наливаме х2!*до края на 2024-та						\n				\n				\n				\n					\n			\n						\n		\n				\n				\n				\n				\n							NEW PROMO! ft. TATRATEA Announcing HEAVY HOUR* – every Friday and Saturday between 22:00 and 00:00\, like Tuesday\, we will double the TATRATEA shots you order You choose the percentage\, we just pour x2!*until the end of 2024
URL:https://rockbar.download/event/table-soccer-tournament-thursday-sunday/
CATEGORIES:Recurring
ATTACH;FMTTYPE=image/jpeg:https://rockbar.download/wp-content/uploads/RBD_Table-Football-event-BANNER-NEW.jpg
END:VEVENT
END:VCALENDAR